Workbook

Sheet Sezení
A1: Datum | B1: Místo nebo herna | C1: Naživo / Online | D1: Hra | E1: Limit | F1: Big blind | G1: Hodiny | H1: Vloženo (všechny buy-iny) | I1: Cash-out | J1: Výdaje | K1: Čistý výsledek | L1: Čistě (big blindy) | M1: Za hodinu | N1: Vklad (+) / výběr (-) | O1: Bankroll | P1: Poznámky
A2: 46296 | B2: Místní kasino | C2: Naživo | D2: NLH cash | E2: 1/2 | F2: 2 | G2: 4.5 | H2: 300 | I2: 452 | J2: 18 | K2: =IF(OR(H2="",I2=""),"",I2-H2-J2) | L2: =IF(OR(K2="",F2="",F2=0),"",K2/F2) | M2: =IF(OR(K2="",G2="",G2=0),"",K2/G2) | O2: =IF(AND(K2="",N2=""),"",Souhrn!$B$3+SUM(K$2:K2)+SUM(N$2:N2)) | P2: Ukázkový řádek: přepište ho.
A3: 46298 | B3: Online herna | C3: Online | D3: NLH cash | E3: NL25 | F3: 0.25 | G3: 2 | H3: 50 | I3: 38.5 | J3: 0 | K3: =IF(OR(H3="",I3=""),"",I3-H3-J3) | L3: =IF(OR(K3="",F3="",F3=0),"",K3/F3) | M3: =IF(OR(K3="",G3="",G3=0),"",K3/G3) | O3: =IF(AND(K3="",N3=""),"",Souhrn!$B$3+SUM(K$2:K3)+SUM(N$2:N3)) | P3: Ukázkový řádek: přepište ho.
A4: 46300 | B4: Místní kasino | C4: Naživo | D4: NLH turnaj | E4: 110 $ | G4: 6 | H4: 110 | I4: 0 | J4: 12 | K4: =IF(OR(H4="",I4=""),"",I4-H4-J4) | L4: =IF(OR(K4="",F4="",F4=0),"",K4/F4) | M4: =IF(OR(K4="",G4="",G4=0),"",K4/G4) | O4: =IF(AND(K4="",N4=""),"",Souhrn!$B$3+SUM(K$2:K4)+SUM(N$2:N4)) | P4: Ukázkový řádek: přepište ho.
K5: =IF(OR(H5="",I5=""),"",I5-H5-J5) | L5: =IF(OR(K5="",F5="",F5=0),"",K5/F5) | M5: =IF(OR(K5="",G5="",G5=0),"",K5/G5) | O5: =IF(AND(K5="",N5=""),"",Souhrn!$B$3+SUM(K$2:K5)+SUM(N$2:N5))
K6: =IF(OR(H6="",I6=""),"",I6-H6-J6) | L6: =IF(OR(K6="",F6="",F6=0),"",K6/F6) | M6: =IF(OR(K6="",G6="",G6=0),"",K6/G6) | O6: =IF(AND(K6="",N6=""),"",Souhrn!$B$3+SUM(K$2:K6)+SUM(N$2:N6))
K7: =IF(OR(H7="",I7=""),"",I7-H7-J7) | L7: =IF(OR(K7="",F7="",F7=0),"",K7/F7) | M7: =IF(OR(K7="",G7="",G7=0),"",K7/G7) | O7: =IF(AND(K7="",N7=""),"",Souhrn!$B$3+SUM(K$2:K7)+SUM(N$2:N7))
K8: =IF(OR(H8="",I8=""),"",I8-H8-J8) | L8: =IF(OR(K8="",F8="",F8=0),"",K8/F8) | M8: =IF(OR(K8="",G8="",G8=0),"",K8/G8) | O8: =IF(AND(K8="",N8=""),"",Souhrn!$B$3+SUM(K$2:K8)+SUM(N$2:N8))
K9: =IF(OR(H9="",I9=""),"",I9-H9-J9) | L9: =IF(OR(K9="",F9="",F9=0),"",K9/F9) | M9: =IF(OR(K9="",G9="",G9=0),"",K9/G9) | O9: =IF(AND(K9="",N9=""),"",Souhrn!$B$3+SUM(K$2:K9)+SUM(N$2:N9))
K10: =IF(OR(H10="",I10=""),"",I10-H10-J10) | L10: =IF(OR(K10="",F10="",F10=0),"",K10/F10) | M10: =IF(OR(K10="",G10="",G10=0),"",K10/G10) | O10: =IF(AND(K10="",N10=""),"",Souhrn!$B$3+SUM(K$2:K10)+SUM(N$2:N10))
K11: =IF(OR(H11="",I11=""),"",I11-H11-J11) | L11: =IF(OR(K11="",F11="",F11=0),"",K11/F11) | M11: =IF(OR(K11="",G11="",G11=0),"",K11/G11) | O11: =IF(AND(K11="",N11=""),"",Souhrn!$B$3+SUM(K$2:K11)+SUM(N$2:N11))
K12: =IF(OR(H12="",I12=""),"",I12-H12-J12) | L12: =IF(OR(K12="",F12="",F12=0),"",K12/F12) | M12: =IF(OR(K12="",G12="",G12=0),"",K12/G12) | O12: =IF(AND(K12="",N12=""),"",Souhrn!$B$3+SUM(K$2:K12)+SUM(N$2:N12))
K13: =IF(OR(H13="",I13=""),"",I13-H13-J13) | L13: =IF(OR(K13="",F13="",F13=0),"",K13/F13) | M13: =IF(OR(K13="",G13="",G13=0),"",K13/G13) | O13: =IF(AND(K13="",N13=""),"",Souhrn!$B$3+SUM(K$2:K13)+SUM(N$2:N13))
K14: =IF(OR(H14="",I14=""),"",I14-H14-J14) | L14: =IF(OR(K14="",F14="",F14=0),"",K14/F14) | M14: =IF(OR(K14="",G14="",G14=0),"",K14/G14) | O14: =IF(AND(K14="",N14=""),"",Souhrn!$B$3+SUM(K$2:K14)+SUM(N$2:N14))
K15: =IF(OR(H15="",I15=""),"",I15-H15-J15) | L15: =IF(OR(K15="",F15="",F15=0),"",K15/F15) | M15: =IF(OR(K15="",G15="",G15=0),"",K15/G15) | O15: =IF(AND(K15="",N15=""),"",Souhrn!$B$3+SUM(K$2:K15)+SUM(N$2:N15))
K16: =IF(OR(H16="",I16=""),"",I16-H16-J16) | L16: =IF(OR(K16="",F16="",F16=0),"",K16/F16) | M16: =IF(OR(K16="",G16="",G16=0),"",K16/G16) | O16: =IF(AND(K16="",N16=""),"",Souhrn!$B$3+SUM(K$2:K16)+SUM(N$2:N16))
... K501: =IF(OR(H501="",I501=""),"",I501-H501-J501) | L501: =IF(OR(K501="",F501="",F501=0),"",K501/F501) | M501: =IF(OR(K501="",G501="",G501=0),"",K501/G501) | O501: =IF(AND(K501="",N501=""),"",Souhrn!$B$3+SUM(K$2:K501)+SUM(N$2:N501))

Sheet Souhrn
A1: Tabulka pokerového bankrollu
A2: Do buňky B3 zadejte počáteční bankroll a sezení zapisujte na list Sezení. Vše ostatní se přepočítá samo.
A3: Počáteční bankroll | B3: 1000
A4: Sezení | B4: =COUNT('Sezení'!K2:K501)
A5: Odehrané hodiny | B5: =SUM('Sezení'!G2:G501)
A6: Čistý výsledek | B6: =SUM('Sezení'!K2:K501)
A7: Hodinovka | B7: =IF(B5=0,"",B6/B5)
A8: Průměr na sezení | B8: =IF(B4=0,"",B6/B4)
A9: Vítězná sezení | B9: =IF(B4=0,"",COUNTIF('Sezení'!K2:K501,">0")/B4)
A10: Největší výhra | B10: =IF(B4=0,"",MAX('Sezení'!K2:K501))
A11: Největší prohra | B11: =IF(B4=0,"",MIN('Sezení'!K2:K501))
A12: Výdaje | B12: =SUM('Sezení'!J2:J501)
A13: Vklady a výběry | B13: =SUM('Sezení'!N2:N501)
A14: Aktuální bankroll | B14: =B3+B6+B13
A16: Naživo: čistý výsledek | B16: =SUMIF('Sezení'!C2:C501,"Naživo",'Sezení'!K2:K501)
A17: Naživo: hodiny | B17: =SUMIF('Sezení'!C2:C501,"Naživo",'Sezení'!G2:G501)
A18: Naživo: hodinovka | B18: =IF(B17=0,"",B16/B17)
A19: Online: čistý výsledek | B19: =SUMIF('Sezení'!C2:C501,"Online",'Sezení'!K2:K501)
A20: Online: hodiny | B20: =SUMIF('Sezení'!C2:C501,"Online",'Sezení'!G2:G501)
A21: Online: hodinovka | B21: =IF(B20=0,"",B19/B20)
A23: Bezplatná šablona z pokerroll.app/cs/blog/poker-bankroll-spreadsheet. PokerRoll je bezplatný bankroll tracker, který to udělá za vás.
